BEGIN:VCALENDAR
VERSION:2.0
PRODID:-//ΠΑΓΚΥΠΡΙΑ ΟΡΓΑΝΩΣΗ ΠΕΝΤΑΜΕΛΟΥΣ ΟΙΚΟΓΕΝΕΙΑΣ - ΛΕΜΕΣΟΣ - ECPv6.15.20//NONSGML v1.0//EN
CALSCALE:GREGORIAN
METHOD:PUBLISH
X-WR-CALNAME:ΠΑΓΚΥΠΡΙΑ ΟΡΓΑΝΩΣΗ ΠΕΝΤΑΜΕΛΟΥΣ ΟΙΚΟΓΕΝΕΙΑΣ - ΛΕΜΕΣΟΣ
X-ORIGINAL-URL:https://triteknoi.org
X-WR-CALDESC:Events for ΠΑΓΚΥΠΡΙΑ ΟΡΓΑΝΩΣΗ ΠΕΝΤΑΜΕΛΟΥΣ ΟΙΚΟΓΕΝΕΙΑΣ - ΛΕΜΕΣΟΣ
REFRESH-INTERVAL;VALUE=DURATION:PT1H
X-Robots-Tag:noindex
X-PUBLISHED-TTL:PT1H
BEGIN:VTIMEZONE
TZID:Europe/Moscow
BEGIN:STANDARD
TZOFFSETFROM:+0300
TZOFFSETTO:+0300
TZNAME:MSK
DTSTART:20180101T000000
END:STANDARD
END:VTIMEZONE
BEGIN:VTIMEZONE
TZID:UTC
BEGIN:STANDARD
TZOFFSETFROM:+0000
TZOFFSETTO:+0000
TZNAME:UTC
DTSTART:20210101T000000
END:STANDARD
END:VTIMEZONE
BEGIN:VEVENT
DTSTART;TZID=Europe/Moscow:20191109T000000
DTEND;TZID=Europe/Moscow:20191110T000000
DTSTAMP:20260425T191230
CREATED:20210423T150647Z
LAST-MODIFIED:20210423T150647Z
UID:1859-1573257600-1573344000@triteknoi.org
SUMMARY:ΠΡΑΓΜΑΤΟΠΟΙΗΘΗΚΕ Η ΔΙΗΜΕΡΙΔΑ ΓΙΑ ΤΟ ΔΗΜΟΓΡΑΦΙΚΟ
DESCRIPTION:Πραγματοποιήθηκε στις 9 και 10 Νοεμβρίου 2010\, διημερίδα με θέμα «Το Δημογραφικό» και κατ’ επέκταση η Υπογεννητικότητα στην Κύπρο – Ελλάδα και ευρύτερα. Η Διημερίδα έγινε με συνεργασία της Παγκύπριας Οργάνωσης Πενταμελούς Οικογένειας (ΠΟΠΟ) Κύπρου και ΟΠΟΤΤΕ Ελλάδας. \nΤο θέμα Υπογεννητικότητα και οι επιπτώσεις της\, ανάλυσαν ο κ. Διονύσης Μπαλούρδος\, Διευθυντής Ερευνών (Εθνικού Κέντρου Κοινωνικών Μελετών (ΕΚΚΕ)\, Οικονομολόγος – Δημογράφος και η κ. Φαίη Μακαντάση-Αναλυτής Ερευνών\, Οργανισμός Έρευνας & Ανάλυσης (διαΝΕΟσις). \nΑπό μέρους της Υπουργού Εργασίας και Κοινωνικών Ασφαλίσεων τοποθετήθηκε ο κ. Χρίστος Μαληκκίδης – Γενικός Διευθυντής Υπουργείου Εργασίας. Στατιστικά στοιχεία παρουσίασε η κ. Λουκία Μακρή – Λειτουργός της Στατιστικής Υπηρεσίας Κύπρου. Από μέρους της ΟΠΟΤΤΕ Ελλάδας\, τοποθετήθηκαν ο Πρόεδρος της Οργάνωσης κ. Μανώλης Αχλαδιανάκης και ο Αντιπρόεδρος κ. Θεόδωρος Κοντός. \nΑπό μέρους της ΠΟΠΟ Κύπρου τοποθετήθηκε ο Γενικός Γραμματέας της Οργάνωσης κ. Σόλων Κασίνης και εκ μέρους της ΠΟΠ ο Πρόεδρος της Οργάνωσης κ. Ντίνος Ολύμπιος. \nΣτο 2ο μέρος της Διημερίδας τοποθετήθηκαν επί του θέματος με θέσεις και απόψεις\, εκπρόσωποι όλων των Κοινοβουλευτικών Κομμάτων της Κυπριακής Βουλής. Τα πορίσματα και οι τοποθετήσεις θα συνοψισθούν και θα δημοσιευθούν στο άμεσο μέλλον. \n\nΜετά το τέλος των εργασιών\, έγινε τελετή αδελφοποίησης των δύο Οργανώσεων και υπογράφηκε Πρωτόκολλο Συνεργασίας από τους 2 Προέδρους κ. Ευθύμιο Στρούθο Πρόεδρος ΠΟΠΟ και κ. Μανώλη Αχλαδιανάκη Πρόεδρος ΟΠΟΤΤΕ.
URL:https://triteknoi.org/event/%cf%80%cf%81%ce%b1%ce%b3%ce%bc%ce%b1%cf%84%ce%bf%cf%80%ce%bf%ce%b9%ce%b7%ce%b8%ce%b7%ce%ba%ce%b5-%ce%b7-%ce%b4%ce%b9%ce%b7%ce%bc%ce%b5%cf%81%ce%b9%ce%b4%ce%b1-%ce%b3%ce%b9%ce%b1-%cf%84%ce%bf-%ce%b4/
END:VEVENT
BEGIN:VEVENT
DTSTART;TZID=UTC:20221025T080000
DTEND;TZID=UTC:20221025T170000
DTSTAMP:20260425T191230
CREATED:20221025T131609Z
LAST-MODIFIED:20221025T131618Z
UID:2487-1666684800-1666717200@triteknoi.org
SUMMARY:Συνάντηση των λειτουργών της Οργάνωσης με μέλη της Γραμματείας
DESCRIPTION:Πραγματοποιήθηκε σήμερα 25/10/2022 στα επαρχιακά γραφεία ΠΟΠΟ Λάρνακας (Παγκύπρια Οργάνωσης Πενταμελούς Οικογένειας) η καθιερωμένη συνάντηση των λειτουργών της Οργάνωσης με μέλη της Γραμματείας όπου σε κλίμα παραγωγικό έγινε ανασκόπηση της τρέχουσας χρονιάς και εισηγήσεις για την επερχόμενη. Ολα γίνονται για την καλύτερη εξυπηρέτηση τών χιλιάδων Οικογενειών Μελών μας \n 
URL:https://triteknoi.org/event/%cf%83%cf%85%ce%bd%ce%ac%ce%bd%cf%84%ce%b7%cf%83%ce%b7-%cf%84%cf%89%ce%bd-%ce%bb%ce%b5%ce%b9%cf%84%ce%bf%cf%85%cf%81%ce%b3%cf%8e%ce%bd-%cf%84%ce%b7%cf%82-%ce%bf%cf%81%ce%b3%ce%ac%ce%bd%cf%89%cf%83/
END:VEVENT
BEGIN:VEVENT
DTSTART;TZID=UTC:20221126T080000
DTEND;TZID=UTC:20221126T140000
DTSTAMP:20260425T191230
CREATED:20221126T134146Z
LAST-MODIFIED:20221025T132247Z
UID:2472-1669449600-1669471200@triteknoi.org
SUMMARY:ΠΡΟΚΗΡΥΞΗ  ΕΤΗΣΙΟΥ ΤΑΚΤΙΚΟΥ & ΕΚΛΟΓΙΚΟΥ ΣΥΝΕΔΡΙΟΥ 2022
DESCRIPTION:Καλούνται τα μέλη της Παγκύπριας Οργάνωσης Πενταμελούς Οικογένειας (ΠΟΠΟ)  στο Ετήσιο Τακτικό Συνέδριο που  θα πραγματοποιηθεί στις  26 Νοεμβρίου 2022\, ημέρα Σάββατο  και ώρα 10.30 Π.Μ. στη Λευκωσία\, στο Πολιτιστικό Κέντρο Παλαιά Αγορά Παλλουριώτισσα. \nΘέματα  του Συνεδρίου  Α Μέρος:  \n\nΈκθεση πεπραγμένων του ΚΔΣ – από τον Πρόεδρο Ευθύμιο Στρούθο\n\nγια τη περίοδο 2021-2022. \n  \n\nΈκθεση Οικονομικής Διαχείρισης\, εξελεγμένοι λογαριασμοί\,\n\nγια το έτος 2021 από τον Γενικό Ταμία Χριστόδουλο Πιτσιρή \n  \n\nΈκθεση Επιτροπής Εσωτερικού Ελέγχου– για το έτος2021- 2022\n\nαπό την Πρόεδρο Μαίρη Βασίλακκα \n` \n\nΣυζήτηση επί των πεπραγμένων και λήψη αποφάσεων\n\n  \n\nΈγκριση Ψηφίσματος\n\nΔιάλειμμα Β Μέρος :  \nΕκλογή Επιτροπής Εσωτερικού Ελέγχου \n  \n  \n………………………………………..                                                      ………….                ………………………………… \nΕυθύμιος Στρούθος                                                                        Σόλων Μ. Κασίνης \nΠρόεδρος ΠΟΠΟ                                                                              Γενικός Γραμματέας ΠΟΠΟ
URL:https://triteknoi.org/event/%cf%80%cf%81%ce%bf%ce%ba%ce%b7%cf%81%cf%85%ce%be%ce%b7-%ce%b5%cf%84%ce%b7%cf%83%ce%b9%ce%bf%cf%85-%cf%84%ce%b1%ce%ba%cf%84%ce%b9%ce%ba%ce%bf%cf%85-%ce%b5%ce%ba%ce%bb%ce%bf%ce%b3%ce%b9%ce%ba/
END:VEVENT
BEGIN:VEVENT
DTSTART;TZID=UTC:20221204T100000
DTEND;TZID=UTC:20221204T120000
DTSTAMP:20260425T191230
CREATED:20221116T210923Z
LAST-MODIFIED:20221116T210923Z
UID:2519-1670148000-1670155200@triteknoi.org
SUMMARY:Δωρεάν Κινηματογραφική παράσταση>  στο K Cineplex
DESCRIPTION:Σε συνεργασία με τον Δήμο Λιβαδιών Δωρεάν Κινηματογραφική παράσταση<< Ο Μικρός Νικόλας>> στο K Cineplex την Κυριακή 4 Δεκεμβρίου και ώρα 10.00 \n 
URL:https://triteknoi.org/event/%ce%b4%cf%89%cf%81%ce%b5%ce%ac%ce%bd-%ce%ba%ce%b9%ce%bd%ce%b7%ce%bc%ce%b1%cf%84%ce%bf%ce%b3%cf%81%ce%b1%cf%86%ce%b9%ce%ba%ce%ae-%cf%80%ce%b1%cf%81%ce%ac%cf%83%cf%84%ce%b1%cf%83%ce%b7-%cf%83%cf%84/
LOCATION:k cineplex\, ΛΑΡΝΑΚΑ
END:VEVENT
BEGIN:VEVENT
DTSTART;TZID=Europe/Moscow:20231217T110000
DTEND;TZID=Europe/Moscow:20231217T130000
DTSTAMP:20260425T191230
CREATED:20231128T123437Z
LAST-MODIFIED:20231128T123437Z
UID:3015-1702810800-1702818000@triteknoi.org
SUMMARY:Κινηματογραφική Παράσταση ΠΟΠΟ Λάρνακας
DESCRIPTION:ΣΤΙΣ 17/12/2023\, ΗΜΕΡΑ ΚΥΡΙΑΚΗ ΩΡΑ 11.00Π.Μ. Η ΠΟΠΟ ΛΑΡΝΑΚΑΣ ΠΡΟΣΦΕΡΕΙ\nΣΤΑ ΜΕΛΗ ΤΗΣ ΔΩΡΕΑΝ ΠΑΙΔΙΚΗ ΚΙΝΗΜΑΤΟΓΡΑΦΙΚΗ ΠΑΡΑΣΤΑΣΗ CHRISTMAS AT THE\nCATLE HILL (ΕΙΝΑΙ ΣΤΑ ΕΛΛΗΝΙΚΑ) ΣΤΟ KCINEPLEX ΣΤΗ ΛΑΡΝΑΚΑ.
URL:https://triteknoi.org/event/%ce%ba%ce%b9%ce%bd%ce%b7%ce%bc%ce%b1%cf%84%ce%bf%ce%b3%cf%81%ce%b1%cf%86%ce%b9%ce%ba%ce%ae-%cf%80%ce%b1%cf%81%ce%ac%cf%83%cf%84%ce%b1%cf%83%ce%b7-%cf%80%ce%bf%cf%80%ce%bf-%ce%bb%ce%ac%cf%81%ce%bd/
ATTACH;FMTTYPE=image/jpeg:https://triteknoi.org/wp-content/uploads/2023/11/christmas-cattle-hill.jpg
END:VEVENT
BEGIN:VEVENT
DTSTART;TZID=Europe/Moscow:20241211T183000
DTEND;TZID=Europe/Moscow:20241211T200000
DTSTAMP:20260425T191230
CREATED:20241107T161141Z
LAST-MODIFIED:20241107T161637Z
UID:3209-1733941800-1733947200@triteknoi.org
SUMMARY:Ετήσιο Τακτικό και Εκλογικό Συνέδριο Παγκύπριας Οργάνωσης Πενταμελούς Οικογένειας (ΠΟΠΟ)  2024
DESCRIPTION:  \nΚαλούνται τα μέλη της Παγκύπριας Οργάνωσης Πενταμελούς Οικογένειας (ΠΟΠΟ)  στο Ετήσιο Τακτικό Συνέδριο που  θα πραγματοποιηθεί στις  11 Δεκεμβρίου  2024\, ημέρα Τετάρτη   και ώρα 18.30  στη Λευκωσία\, στη Δημοσιογραφική Εστία. \nΘέματα  του Συνεδρίου  Α Μέρος:  \n\nΈκθεση πεπραγμένων του ΚΔΣ – από τον Πρόεδρο Ευθύμιο Στρούθο\n\nγια τη περίοδο 2021-2022. \n  \n\nΈκθεση Οικονομικής Διαχείρισης\, εξελεγμένοι λογαριασμοί\,\n\nγια το έτος 2021 από τον Γενικό Ταμία Χριστόδουλο Πιτσιρή \n  \n\nΈκθεση Επιτροπής Εσωτερικού Ελέγχου– για το έτος2021- 2022\n\nαπό την Πρόεδρο Μαίρη Βασίλακκα \n` \n\nΣυζήτηση επί των πεπραγμένων και λήψη αποφάσεων\n\n  \n\nΈγκριση Ψηφίσματος\n\nΔιάλειμμα Β Μέρος :  \nΕκλογή Επιτροπής Εσωτερικού Ελέγχου \n 
URL:https://triteknoi.org/event/%ce%b5%cf%84%ce%ae%cf%83%ce%b9%ce%bf-%cf%84%ce%b1%ce%ba%cf%84%ce%b9%ce%ba%cf%8c-%ce%ba%ce%b1%ce%b9-%ce%b5%ce%ba%ce%bb%ce%bf%ce%b3%ce%b9%ce%ba%cf%8c-%cf%83%cf%85%ce%bd%ce%ad%ce%b4%cf%81%ce%b9%ce%bf/
ATTACH;FMTTYPE=image/jpeg:https://triteknoi.org/wp-content/uploads/2023/11/400041924_1804330233352941_932304422728470525_n.jpg
END:VEVENT
END:VCALENDAR